BEGIN:VCALENDAR
PRODID:-//eluceo/ical//2.0/EN
VERSION:2.0
CALSCALE:GREGORIAN
BEGIN:VEVENT
UID:fb83bcb5e353baadd6ec738ebc789a31
DTSTAMP:20260425T154318Z
SUMMARY:ON THE MAP Tal Brody at Memorial Stadium
DESCRIPTION:Champaign-Urbana Jewish Federation\nCommunity Calendar\nhttps:/
 /cujf.org/community-calendar/on-the-map-tal-brody-at-memorial-stadium\n\nF
 ans are invited to a public viewing of the documentary on Wednesday\, Nov.
  7 at 5:30 p.m. in the Colonnades Club at Memorial Stadium. Following the 
 film\, Brody will take part in a reception and Q&A forum from 7:00-8:00 p.
 m.\n\nON THE MAP tells the against-all-odds story of Maccabi Tel Aviv's 19
 77 European Championship\, which took place at a time when the Middle East
  was still reeling from the 1973 Yom Kippur War\, the 1972 Olympic massacr
 e at Munich\, and the 1976 hijacking of an Air France fli...
DTSTART;TZID=America/Chicago:20181107T173000
DTEND;TZID=America/Chicago:20181107T200000
END:VEVENT
END:VCALENDAR
