BEGIN:VCALENDAR
PRODID:-//eluceo/ical//2.0/EN
VERSION:2.0
CALSCALE:GREGORIAN
BEGIN:VEVENT
UID:ba9ec316e6886e284b0e9b495e3877a6
DTSTAMP:20260422T080424Z
SUMMARY:North on Edge: Potential Implications of A Major Escalation
DESCRIPTION:Champaign-Urbana Jewish Federation\nCommunity Calendar\nhttps:/
 /cujf.org/community-calendar/north-on-edge-potential-implications-of-a-maj
 or-escalation\n\nNorth on Edge: Potential Implications of A Major Escalati
 on\nThursday\, August 1 at 1 PM EST\n\n\nJoin Jewish Federations of North 
 America for a critical analysis of the complex situation unfolding in Isra
 el's northern region. Hear from military and residents of the north on w
 hether Saturday’s attack on Majdal Shams brought the country closer to a
 n all-out war\, what that could mean for regional stability\, and where th
 e country could be headed now.
DTSTART;TZID=America/Chicago:20240801T120000
DTEND;TZID=America/Chicago:20240801T130000
END:VEVENT
END:VCALENDAR
