BEGIN:VCALENDAR
PRODID:-//eluceo/ical//2.0/EN
VERSION:2.0
CALSCALE:GREGORIAN
BEGIN:VEVENT
UID:7a010b39a09d3400b59a05b5f090dc04
DTSTAMP:20260424T213702Z
SUMMARY:My Story: History of Ethiopian Jews with Waga Brok
DESCRIPTION:Champaign-Urbana Jewish Federation\nCommunity Calendar\nhttps:/
 /cujf.org/community-calendar/my-story-history-of-ethiopian-jews-with-waga-
 brok\n\n“My Story: the History of the Ethiopian Jews” will discuss the
  culture and the history of the Ethiopian Jewish experience starting from 
 how the Jewish people arrived in Ethiopia to what daily life looks like\, 
 and cultural differences between Ethiopian Jews and other Jews around the 
 world.
DTSTART;TZID=America/Chicago:20181107T120000
DTEND;TZID=America/Chicago:20181107T130000
END:VEVENT
END:VCALENDAR
