BEGIN:VCALENDAR
PRODID:-//eluceo/ical//2.0/EN
VERSION:2.0
CALSCALE:GREGORIAN
BEGIN:VEVENT
UID:1aec8eede3e0ad6fb5713388a3f1b991
DTSTAMP:20260421T105927Z
SUMMARY:Mussaf Service
DESCRIPTION:Champaign-Urbana Jewish Federation\nCommunity Calendar\nhttps:/
 /cujf.org/community-calendar/mussaf-service-sept-10\n\n \n\nJoin Chabad t
 o celebrate Rosh Hashanah. Please RSVP to let Chabad know which services
  and meals you will be attending. See the full schedule for the high holi
 days on the Chabad website. 
DTSTART;TZID=America/Chicago:20180910T121500
DTEND;TZID=America/Chicago:20180910T131500
END:VEVENT
END:VCALENDAR
