BEGIN:VCALENDAR
PRODID:-//eluceo/ical//2.0/EN
VERSION:2.0
CALSCALE:GREGORIAN
BEGIN:VEVENT
UID:2b517219a530df5a2e281ef4873f170e
DTSTAMP:20260422T070143Z
SUMMARY:Mussaf Service
DESCRIPTION:Champaign-Urbana Jewish Federation\nCommunity Calendar\nhttps:/
 /cujf.org/community-calendar/mussaf-service-Sept-11\n\n \n\nJoin Chabad t
 o celebrate Rosh Hashanah. Please RSVP to let Chabad know which services
  and meals you will be attending. See the full schedule for the high holi
 days on the Chabad website. 
DTSTART;TZID=America/Chicago:20180911T121500
DTEND;TZID=America/Chicago:20180911T131500
END:VEVENT
END:VCALENDAR
