BEGIN:VCALENDAR
PRODID:-//eluceo/ical//2.0/EN
VERSION:2.0
CALSCALE:GREGORIAN
BEGIN:VEVENT
UID:1b38f03e375fb09a77f4fbbfe426cd06
DTSTAMP:20260426T002114Z
SUMMARY:Mt. Hope Cemetery Jewish Sections INFORMATION SESSION
DESCRIPTION:Champaign-Urbana Jewish Federation\nCommunity Calendar\nhttps:/
 /cujf.org/community-calendar/mt-hope-cemetery-jewish-sections-information-
 session-1707237401\n\nInformation session for the entire C-U Jewish commun
 ity on current procedures for purchasing burial plots from Sinai Temple an
 d following Mt. Hope Cemetery requirements\, and an update on monument mai
 ntenance and restoration efforts.
DTSTART;TZID=America/Chicago:20240303T113000
DTEND;TZID=America/Chicago:20240303T123000
END:VEVENT
END:VCALENDAR
