BEGIN:VCALENDAR
PRODID:-//eluceo/ical//2.0/EN
VERSION:2.0
CALSCALE:GREGORIAN
BEGIN:VEVENT
UID:978443cd7cd60d215fbf2bfd6b27f3f5
DTSTAMP:20260424T111009Z
SUMMARY:Morning Services
DESCRIPTION:Champaign-Urbana Jewish Federation\nCommunity Calendar\nhttps:/
 /cujf.org/community-calendar/morning-services-Sept-11\n\n \n\nJoin Chabad
  to celebrate Rosh Hashanah. Please RSVP to let Chabad know which servic
 es and meals you will be attending. See the full schedule for the high ho
 lidays on the Chabad website. 
DTSTART;TZID=America/Chicago:20180911T093000
DTEND;TZID=America/Chicago:20180911T111500
END:VEVENT
END:VCALENDAR
