BEGIN:VCALENDAR
PRODID:-//eluceo/ical//2.0/EN
VERSION:2.0
CALSCALE:GREGORIAN
BEGIN:VEVENT
UID:0d1cc94e05de79a5e89e59fc1c80fc4f
DTSTAMP:20260421T163731Z
SUMMARY:More than the Darkness: Volunteering at Auschwitz - with Dr. Carrie
  Franke
DESCRIPTION:Champaign-Urbana Jewish Federation\nCommunity Calendar\nhttps:/
 /cujf.org/community-calendar/more-than-the-darkness\n\nMore than the Darkn
 ess: Volunteering at Auschwitz - with Dr. Carrie Franke\n\nThursday\, June
  26th\, 2:00 - 3:30 PM\n\nat the McKinley Foundation\n\n \n\nCarrie will 
 give a brief history of the Auschwitz-Berkenau Concentration Camp\, as wel
 l as share her experience of volunteering at Auschwitz and how she coped 
 with the horrors of her surroundings. \n\n \n\nFor more information abou
 t the Auschwitz Experience in the Art of Prisoners\, visit cujf.org/hec
DTSTART;TZID=America/Chicago:20250626T140000
DTEND;TZID=America/Chicago:20250626T153000
END:VEVENT
END:VCALENDAR
