BEGIN:VCALENDAR
PRODID:-//eluceo/ical//2.0/EN
VERSION:2.0
CALSCALE:GREGORIAN
BEGIN:VEVENT
UID:8f01f15f389efa6acae0b0874d9edd2c
DTSTAMP:20260424T024134Z
SUMMARY:CHAI Seniors: Mindful Movement in a Chair
DESCRIPTION:Champaign-Urbana Jewish Federation\nCommunity Calendar\nhttps:/
 /cujf.org/community-calendar/mindful-movement-in-a-chair\n\nMindful Moveme
 nt in a Chair with Robin Goettel\n\nMonday\, November 18th\, 2024\n\nMind
 ful Movements at 11:15 AM\n\nLunch at 12:00 PM\n\nSinai Temple\, 3104 Wind
 sor Rd\n\n \n\n \n\nOn Monday\, November 18th at 11:15 AM at Sinai Tem
 ple\, CHAI Seniors will be joined by Robin Goettel for Mindful Movements i
 n a Chair! She will lead the group through movements that will give you mo
 re energy\, increased stre...
DTSTART;TZID=America/Chicago:20241118T111500
DTEND;TZID=America/Chicago:20241118T130000
END:VEVENT
END:VCALENDAR
