BEGIN:VCALENDAR
PRODID:-//eluceo/ical//2.0/EN
VERSION:2.0
CALSCALE:GREGORIAN
BEGIN:VEVENT
UID:4c346c8b1ca22f872cf421e4b125cabb
DTSTAMP:20260425T030011Z
SUMMARY:Mincha Service
DESCRIPTION:Champaign-Urbana Jewish Federation\nCommunity Calendar\nhttps:/
 /cujf.org/community-calendar/mincha-service-sept-19\n\nJoin Chabad for Yo
 m Kippur. Please RSVP to let Chabad know which services you will be att
 ending. See the full schedule for the high holidays on the Chabad website
 . 
DTSTART;TZID=America/Chicago:20180919T171500
DTEND;TZID=America/Chicago:20180919T180500
END:VEVENT
END:VCALENDAR
