BEGIN:VCALENDAR
PRODID:-//eluceo/ical//2.0/EN
VERSION:2.0
CALSCALE:GREGORIAN
BEGIN:VEVENT
UID:9b33408cd415199f9c3051cf20c77246
DTSTAMP:20260423T190200Z
SUMMARY:Middle School Movie Night at the Elazar Home
DESCRIPTION:Champaign-Urbana Jewish Federation\nCommunity Calendar\nhttps:/
 /cujf.org/community-calendar/middle-school-movie-night\n\nJoin us for a mo
 vie night at the Elazar home! 
DTSTART;TZID=America/Chicago:20171014T180000
DTEND;TZID=America/Chicago:20171014T210000
END:VEVENT
END:VCALENDAR
