BEGIN:VCALENDAR
PRODID:-//eluceo/ical//2.0/EN
VERSION:2.0
CALSCALE:GREGORIAN
BEGIN:VEVENT
UID:6e099cc9eee1f6ea8a36a717e33103ca
DTSTAMP:20260425T102645Z
SUMMARY:Michael Winograd and the Honorable Mentshn
DESCRIPTION:Champaign-Urbana Jewish Federation\nCommunity Calendar\nhttps:/
 /cujf.org/community-calendar/michael-winograd-and-the-honorable-mentshn\n\
 nThe "Lebron James of Klezmer”\, Michael Winograd and his band\, The Hon
 orable Mentshn\, are coming to the Rose Bowl this Labor Day\, September 4t
 h @2pm\n\nThe band—whose name plays on the plural form of the Yiddish ap
 probation “mentsh\,” meaning a person of integrity—is the brainchild
  of Brooklyn clarinet virtuoso Michael Winograd. A graduate of the New Eng
 land Conservatory\, Winograd has become a leader in the modern renaissance
  of klezmer\, a musical style he has played since childhood. ...
DTSTART;TZID=America/Chicago:20230904T140000
DTEND;TZID=America/Chicago:20230904T160000
END:VEVENT
END:VCALENDAR
