BEGIN:VCALENDAR
PRODID:-//eluceo/ical//2.0/EN
VERSION:2.0
CALSCALE:GREGORIAN
BEGIN:VEVENT
UID:a97e06ca3350ee8300a2a74f4fbe5649
DTSTAMP:20260421T141315Z
SUMMARY:Lunch n Learn with Chabad at Illini Union Courtyard Café
DESCRIPTION:Champaign-Urbana Jewish Federation\nCommunity Calendar\nhttps:/
 /cujf.org/community-calendar/lunch-n-learn-with-chabad-at-illini-union-cou
 rtyard-caf\n\nLunch n Learn with Chabad at Illini Union Courtyard Café
DTSTART;TZID=America/Chicago:20190924T120000
DTEND;TZID=America/Chicago:20190924T120000
END:VEVENT
END:VCALENDAR
