BEGIN:VCALENDAR
PRODID:-//eluceo/ical//2.0/EN
VERSION:2.0
CALSCALE:GREGORIAN
BEGIN:VEVENT
UID:7266fdb29ec60029e68f049833f965b7
DTSTAMP:20260423T092407Z
SUMMARY:Light candles at 7:03
DESCRIPTION:Champaign-Urbana Jewish Federation\nCommunity Calendar\nhttps:/
 /cujf.org/community-calendar/light-candles-at-703-april-5-2018\n\nLight ca
 ndles for the beginning of Yom Tov (Passover) at 7:03 pm
DTSTART;TZID=America/Chicago:20180405T000000
DTEND;TZID=America/Chicago:20180405T190300
END:VEVENT
END:VCALENDAR
