BEGIN:VCALENDAR
PRODID:-//eluceo/ical//2.0/EN
VERSION:2.0
CALSCALE:GREGORIAN
BEGIN:VEVENT
UID:0b589eae796d5adc5167811da7fca6e8
DTSTAMP:20260422T083154Z
SUMMARY:Light Candles After 6:57
DESCRIPTION:Champaign-Urbana Jewish Federation\nCommunity Calendar\nhttps:/
 /cujf.org/community-calendar/light-candles-after-March-31-2018\n\nLight ca
 ndles after 6:57 PM
DTSTART;TZID=America/Chicago:20180331T000000
DTEND;TZID=America/Chicago:20180331T185700
END:VEVENT
END:VCALENDAR
