BEGIN:VCALENDAR
PRODID:-//eluceo/ical//2.0/EN
VERSION:2.0
CALSCALE:GREGORIAN
BEGIN:VEVENT
UID:d2f11956e0be396fa9881c158ee857d1
DTSTAMP:20260422T211539Z
SUMMARY:Lag b’Omer Picnic/Evening Outdoors
DESCRIPTION:Champaign-Urbana Jewish Federation\nCommunity Calendar\nhttps:/
 /cujf.org/community-calendar/lag-bomer-picnicevening-outdoors-310714\n\nSa
 ve the Date! More details will be shared soon. This event will include out
 door activities around a fire pit\, playground time\, gaga\, music and foo
 d. Join us for a fun gathering! This will serve as our Three and Under Ch
 avurah for the month of May!
DTSTART;TZID=America/Chicago:20190523T173000
DTEND;TZID=America/Chicago:20190523T193000
END:VEVENT
END:VCALENDAR
