BEGIN:VCALENDAR
PRODID:-//eluceo/ical//2.0/EN
VERSION:2.0
CALSCALE:GREGORIAN
BEGIN:VEVENT
UID:934076a35470e4820963e8c8bcfd5497
DTSTAMP:20260424T072619Z
SUMMARY:Ladies' Night Out
DESCRIPTION:Champaign-Urbana Jewish Federation\nCommunity Calendar\nhttps:/
 /cujf.org/community-calendar/ladies-night-out-Dec-2018\n\nOur next women's
  night will be on December 17\, 7-9pm at Anna's house.  We will be cookin
 g and schmoozing. This event is limited to 20 people so please RSVP early 
 to let  us know if you plan to come. 
DTSTART;TZID=America/Chicago:20181217T190000
DTEND;TZID=America/Chicago:20181217T210000
END:VEVENT
END:VCALENDAR
