BEGIN:VCALENDAR
PRODID:-//eluceo/ical//2.0/EN
VERSION:2.0
CALSCALE:GREGORIAN
BEGIN:VEVENT
UID:1d9062ca7b6dce463e2396d5f1ba76f1
DTSTAMP:20260422T150252Z
SUMMARY:Kugel and Klezmer Finale Event
DESCRIPTION:Champaign-Urbana Jewish Federation\nCommunity Calendar\nhttps:/
 /cujf.org/community-calendar/kugel-and-klezmer-finale-event\n\n4:00pm   
      Kugel and Klezmer Finale Event\n\nLocation: UIUC ARC Multipurpose
  Room 6\, 201 E Peabody Dr\, Champaign\, IL 61820\n\n\nDescription: Celebr
 ate the festival’s grand finale with a kugel cook-off and taste-off. Awa
 rds will be given\, dreams will be made\, and a great time will be had by 
 all! Featuring our local Papashoy Klezmer Band and guest judges. No regist
 ration required. Enter your kugel into the competition here.\n\n\n\n\n\n\n
 \n\n\n\n\n...
DTSTART;TZID=America/Chicago:20251116T160000
DTEND;TZID=America/Chicago:20251116T180000
END:VEVENT
END:VCALENDAR
