BEGIN:VCALENDAR
PRODID:-//eluceo/ical//2.0/EN
VERSION:2.0
CALSCALE:GREGORIAN
BEGIN:VEVENT
UID:09b9a754418b12b29c60d5f8a5f18ba5
DTSTAMP:20260422T213413Z
SUMMARY:Kristallnacht Commemoration and Film Showing
DESCRIPTION:Champaign-Urbana Jewish Federation\nCommunity Calendar\nhttps:/
 /cujf.org/community-calendar/kristallnacht-commemoration-2024\n\nA Special
  Screening of \n\nResistance: They Fought Back\n\nIn Remembrance of Krist
 allnacht\n\nSaturday\, November 9th\, 2024\n\n6:00 PM - 8:00 PM\n\nCohen C
 enter\, 503 E John St. \n\n \n\nJoin us this Saturday\, November 9th f
 or the commemoration of Kristallnacht\, the Night of Broken Glass\, which
  took place 86 years ago. We will be screening the film Resistance: They 
 Fought Back\, which shows effor...
DTSTART;TZID=America/Chicago:20241109T180000
DTEND;TZID=America/Chicago:20241109T200000
END:VEVENT
END:VCALENDAR
