BEGIN:VCALENDAR
PRODID:-//eluceo/ical//2.0/EN
VERSION:2.0
CALSCALE:GREGORIAN
BEGIN:VEVENT
UID:7ec5c89f8b08f7a315371f3eaa76f983
DTSTAMP:20260422T100244Z
SUMMARY:KIDdush Club Event- Paint Your Own Pottery for Hannakuh
DESCRIPTION:Champaign-Urbana Jewish Federation\nCommunity Calendar\nhttps:/
 /cujf.org/community-calendar/kiddush-club-event-paint-your-own-pottery-for
 -hannakuh\n\nJoin other Jewish families with young children (2nd grade or
  under\, older siblings welcome) to a pottery painting party to get ready
  for Hanukkah! 
DTSTART;TZID=America/Chicago:20171112T150000
DTEND;TZID=America/Chicago:20171112T163000
END:VEVENT
END:VCALENDAR
