BEGIN:VCALENDAR
PRODID:-//eluceo/ical//2.0/EN
VERSION:2.0
CALSCALE:GREGORIAN
BEGIN:VEVENT
UID:3cacbe1d04d8e0f101f16580c06ac7f7
DTSTAMP:20260421T075120Z
SUMMARY:JoJo Rabbit (2019 Film) at the Virginia Theatre - 7 PM
DESCRIPTION:Champaign-Urbana Jewish Federation\nCommunity Calendar\nhttps:/
 /cujf.org/community-calendar/jojo-rabbit-2019-film-at-the-virginia-theatre
 ---7-pm-1662830991\n\nThe movie 'JoJo Rabbit' will play at the Virginia Th
 eater in Champaign for one night only – Wednesday\, Sept 21 at 7 PM. Thi
 s 2019 film from Taika Waititi (born Taika David Cohen) is an exploration 
 of how war impacts everyday people\, told through the eyes of a preteen Au
 strian boy during World War II who idolizes Adolf Hitler. The film is the 
 story of his awakening\, based on his experiences. The screening is part o
 f the Arthouse Experience\, a monthly series curated by Sanford Hess – a
 nd wi...
DTSTART;TZID=America/Chicago:20220921T190000
DTEND;TZID=America/Chicago:20220921T213000
END:VEVENT
END:VCALENDAR
