BEGIN:VCALENDAR
PRODID:-//eluceo/ical//2.0/EN
VERSION:2.0
CALSCALE:GREGORIAN
BEGIN:VEVENT
UID:f3adda57653996ab5ba755eccff765db
DTSTAMP:20260422T215505Z
SUMMARY:Jews in Arabia: From the Great Revolt to the Rise of Islam
DESCRIPTION:Champaign-Urbana Jewish Federation\nCommunity Calendar\nhttps:/
 /cujf.org/community-calendar/jews-in-arabia\n\nSee attached flyer for more
  information
DTSTART;TZID=America/Chicago:20240326T160000
DTEND;TZID=America/Chicago:20240326T173000
END:VEVENT
END:VCALENDAR
