BEGIN:VCALENDAR
PRODID:-//eluceo/ical//2.0/EN
VERSION:2.0
CALSCALE:GREGORIAN
BEGIN:VEVENT
UID:b0710018f7f3fcb2d7401becf9035d1f
DTSTAMP:20260425T123043Z
SUMMARY:Jewish Voice for inclusion LGBTQ in Jewish communities' -Virtual Ev
 ent
DESCRIPTION:Champaign-Urbana Jewish Federation\nCommunity Calendar\nhttps:/
 /cujf.org/community-calendar/jewish-voice-for-inclusion-lgbtq-in-jewish-co
 mmunities-virtual-event-\n\nכל המציל נפש אחת\, כאילו ה
 ציל עולם שלם"\n"Whoever saves one soul\, it is as if he saved an
  entire world"\n\nJoin us for a Global virtual event that will shed light
  on the lives of Jewish LGBTQ members and organizations in their communiti
 es.   \n\nJanuary 12\, 2023\, 7:00 pm Israel time/12:00pm EST on ZOOM.
  Link will be shared upon registration here.\n\nThe Global Jewish LGBTQ p
 artnership provides opportunities for pooling of resources\, learning and 
 collaborative...
DTSTART;TZID=America/Chicago:20230112T110000
DTEND;TZID=America/Chicago:20230112T130000
END:VEVENT
END:VCALENDAR
