BEGIN:VCALENDAR
PRODID:-//eluceo/ical//2.0/EN
VERSION:2.0
CALSCALE:GREGORIAN
BEGIN:VEVENT
UID:1f112ebe0ae09eee7bb7df964f90ec71
DTSTAMP:20260422T045420Z
SUMMARY:Jewish Perspectives on Reproductive Health with Robert Ferrer
DESCRIPTION:Champaign-Urbana Jewish Federation\nCommunity Calendar\nhttps:/
 /cujf.org/community-calendar/jewish-perspectives-on-reproductive-health-wi
 th-robert-ferrer-1670213303\n\nCosponsored by CUJF & Hillel\n\n \n\nAfter
  the Supreme Court decision to overturn Roe v. Wade\, a Rabbi sued the Sta
 te of Florida over a bill that would ban abortions after 15 weeks\, arguin
 g that it infringes on religious liberty.  Clergy from other religions fo
 llowed suit.  How can laws regarding abortion violate religious freedom?
  \n\nWe will explore this issue focusing on the theological perspectives 
 informing women’s reproductive rights as depicted by several religiously
  grounded pos...
DTSTART;TZID=America/Chicago:20230205T130000
DTEND;TZID=America/Chicago:20230205T140000
END:VEVENT
END:VCALENDAR
