BEGIN:VCALENDAR
PRODID:-//eluceo/ical//2.0/EN
VERSION:2.0
CALSCALE:GREGORIAN
BEGIN:VEVENT
UID:418923818acb54d41ddc5c3063940ef7
DTSTAMP:20260422T184822Z
SUMMARY:Jewish CU in the Parade of Lights
DESCRIPTION:Champaign-Urbana Jewish Federation\nCommunity Calendar\nhttps:/
 /cujf.org/community-calendar/jewish-cu-in-the-parade-of-lights\n\nJewish C
 U in the Parade of Lights\n\nNovember 26th \n\n \n\nWhere: Downtown Cham
 paign\n\nQuestions: cujf@cujf.org \n\n \n\nREGISTER FOR THIS EVENT:\n\nPl
 ease let us know that you are interested in marching with us in the parade
  and/or helping decorate the float by filling the form below. Registrati
 ons are FREE and open to everyone. \n\nWe look forward to seeing you!\n\n
  \n\nRSVP here: www.cujf.org/lights
DTSTART;TZID=America/Chicago:20221126T150000
DTEND;TZID=America/Chicago:20221126T200000
END:VEVENT
END:VCALENDAR
