BEGIN:VCALENDAR
PRODID:-//eluceo/ical//2.0/EN
VERSION:2.0
CALSCALE:GREGORIAN
BEGIN:VEVENT
UID:64c04a21675a8c24dc77cc133ce4c160
DTSTAMP:20260422T171127Z
SUMMARY:Jarlings + CUJF Fundraiser
DESCRIPTION:Champaign-Urbana Jewish Federation\nCommunity Calendar\nhttps:/
 /cujf.org/community-calendar/jarlings-cujf-fundraiser\n\nJarlings + CUJF F
 undraiser\n\nMonday\, July 29th \n\n12:00 PM - 11:00 PM\n\nJarlings Custa
 rd Cup\, 309 W Kirby\, Champaign IL\n\n \n\nJoin us for the tastiest fund
 raiser of the summer! On Monday\, July 29th from 12:00 - 11:00 PM\, every 
 time you make a purchase at Jarlings Custard Cup and mention the Champaig
 n-Urbana Jewish Federation\, 20% of the proceeds from your order go to us!
  This is an easy way to support your local Jewish community while also eat
 ing a tasty treat. \n\n 
DTSTART;TZID=America/Chicago:20240729T120000
DTEND;TZID=America/Chicago:20240729T230000
END:VEVENT
END:VCALENDAR
