BEGIN:VCALENDAR
PRODID:-//eluceo/ical//2.0/EN
VERSION:2.0
CALSCALE:GREGORIAN
BEGIN:VEVENT
UID:eee6c7c2cd00e0be54f8025682747624
DTSTAMP:20260422T044729Z
SUMMARY:IsraelPalooza
DESCRIPTION:Champaign-Urbana Jewish Federation\nCommunity Calendar\nhttps:/
 /cujf.org/community-calendar/israelpalooza\n\nSunday\, September 22nd\n\nW
 ashington Park\n\n245 E Chalmers St\, Champaign\n\n1:00 PM - 4:00 PM
DTSTART;TZID=America/Chicago:20240922T130000
DTEND;TZID=America/Chicago:20240922T160000
END:VEVENT
END:VCALENDAR
