BEGIN:VCALENDAR
PRODID:-//eluceo/ical//2.0/EN
VERSION:2.0
CALSCALE:GREGORIAN
BEGIN:VEVENT
UID:b97fc69784e346f51d827354c50d0a7b
DTSTAMP:20260422T184852Z
SUMMARY:Israeli Response to October 7th with Rotem and Tomer Ur Soco
DESCRIPTION:Champaign-Urbana Jewish Federation\nCommunity Calendar\nhttps:/
 /cujf.org/community-calendar/israeli-response-to-october-7th-with-rotem-an
 d-tomer-ur-soco\n\nOn the evening of 4/15 at 6pm we will be holding conver
 sation circles at the Cohen Center with Rotem and Tomer Ur Soco about the 
 Israeli Response to October 7th. Tomer serves in Israel's search and rescu
 e unit and Rotem works for Israel's Department of Education on supporting 
 Israel's internally displaced people since the war began. Since October 7t
 h they\, like thousands of Israel's civil society leaders\, are serving as
  the glue that keeps Israeli society together. \n\n \n\nRSVP at illinih
 ...
DTSTART;TZID=America/Chicago:20250415T180000
DTEND;TZID=America/Chicago:20250415T200000
END:VEVENT
END:VCALENDAR
