BEGIN:VCALENDAR
PRODID:-//eluceo/ical//2.0/EN
VERSION:2.0
CALSCALE:GREGORIAN
BEGIN:VEVENT
UID:f97e6dc2e0a2b6c794ae4d242f746c55
DTSTAMP:20260421T124612Z
SUMMARY:Israeli Movie:  "The Band's Visit" @ Virginia Theatre
DESCRIPTION:Champaign-Urbana Jewish Federation\nCommunity Calendar\nhttps:/
 /cujf.org/community-calendar/israeli-movie--the-bands-visit--virginia-thea
 tre-1669347899\n\nIn the movie\, eight Egyptian musicians wind up stranded
  for a night in a small town in Israel's Negev Desert. It is “...both a 
 clever\, subtle slice-of-life comedy\, and poignant cross-cultural explora
 tion.” (Rotten Tomatoes)  Improbably\, it is now a Broadway hit\, too\, 
 winning a Tony award for Best Musical. (Watch the movie and you’ll see h
 ow improbable a choice it was!)
DTSTART;TZID=America/Chicago:20221214T190000
DTEND;TZID=America/Chicago:20221214T213000
END:VEVENT
END:VCALENDAR
