BEGIN:VCALENDAR
PRODID:-//eluceo/ical//2.0/EN
VERSION:2.0
CALSCALE:GREGORIAN
BEGIN:VEVENT
UID:f1ab30c0145e692a1baa7deec4aee99f
DTSTAMP:20260421T003916Z
SUMMARY:Israeli Dancing
DESCRIPTION:Champaign-Urbana Jewish Federation\nCommunity Calendar\nhttps:/
 /cujf.org/community-calendar/israeli-dancing-april-2018\n\nFun for all! St
 arting from beginner level dancing at 7\, we work our way towards intermed
 iate level dancing as the evening continues. 
DTSTART;TZID=America/Chicago:20180415T190000
DTEND;TZID=America/Chicago:20180415T210000
END:VEVENT
END:VCALENDAR
