BEGIN:VCALENDAR
PRODID:-//eluceo/ical//2.0/EN
VERSION:2.0
CALSCALE:GREGORIAN
BEGIN:VEVENT
UID:2d66e3181236cdad87cfb86da72c0df5
DTSTAMP:20260426T011341Z
SUMMARY:Israeli Dancing CANCELLED
DESCRIPTION:Champaign-Urbana Jewish Federation\nCommunity Calendar\nhttps:/
 /cujf.org/community-calendar/israeli-dancing-May-2018\n\nAll skill levels 
 welcome! Enjoy a fun evening of folk dance!
DTSTART;TZID=America/Chicago:20180506T190000
DTEND;TZID=America/Chicago:20180506T210000
END:VEVENT
END:VCALENDAR
