BEGIN:VCALENDAR
PRODID:-//eluceo/ical//2.0/EN
VERSION:2.0
CALSCALE:GREGORIAN
BEGIN:VEVENT
UID:270c066e72e5d9a7134bdbccb9cfc95c
DTSTAMP:20260425T115939Z
SUMMARY:Israeli Dancing
DESCRIPTION:Champaign-Urbana Jewish Federation\nCommunity Calendar\nhttps:/
 /cujf.org/community-calendar/israeli-dancing-Feb-18\n\nArrive at 7:00 pm f
 or beginner-level teaching!\nAll are encouraged to participate\, regardles
 s of dance experience. Our group welcomes people of all ages and abilities
 . Newcomers highly encouraged to attend.
DTSTART;TZID=America/Chicago:20190209T190000
DTEND;TZID=America/Chicago:20190209T210000
END:VEVENT
END:VCALENDAR
