BEGIN:VCALENDAR
PRODID:-//eluceo/ical//2.0/EN
VERSION:2.0
CALSCALE:GREGORIAN
BEGIN:VEVENT
UID:e443275052140dc39748a163593989c7
DTSTAMP:20260421T043450Z
SUMMARY:Israeli Dancing
DESCRIPTION:Champaign-Urbana Jewish Federation\nCommunity Calendar\nhttps:/
 /cujf.org/community-calendar/israeli-dancing-2019-01-12\n\nArrive at 7:00 
 pm for beginner-level teaching!\nAll are encouraged to participate\, regar
 dless of dance experience. Our group welcomes people of all ages and abili
 ties. Newcomers highly encouraged to attend.
DTSTART;TZID=America/Chicago:20190112T190000
DTEND;TZID=America/Chicago:20190112T210000
END:VEVENT
END:VCALENDAR
