BEGIN:VCALENDAR
PRODID:-//eluceo/ical//2.0/EN
VERSION:2.0
CALSCALE:GREGORIAN
BEGIN:VEVENT
UID:ad7760fb51ec38accf0453ed23c7bf00
DTSTAMP:20260422T083808Z
SUMMARY:Israeli Dancing
DESCRIPTION:Champaign-Urbana Jewish Federation\nCommunity Calendar\nhttps:/
 /cujf.org/community-calendar/israeli-dancing-1662472713\n\nEveryone is wel
 come! Join us for a fun evening of Israeli Dancing under the stars.\n\nRSV
 P here: https://cujf.org/rsvp-dancing
DTSTART;TZID=America/Chicago:20220911T193000
DTEND;TZID=America/Chicago:20220911T213000
END:VEVENT
END:VCALENDAR
