BEGIN:VCALENDAR
PRODID:-//eluceo/ical//2.0/EN
VERSION:2.0
CALSCALE:GREGORIAN
BEGIN:VEVENT
UID:26c7b287fc2c0c95362dd96abb5eed3f
DTSTAMP:20260422T102404Z
SUMMARY:Israel Solidarity Gathering
DESCRIPTION:Champaign-Urbana Jewish Federation\nCommunity Calendar\nhttps:/
 /cujf.org/community-calendar/israel-solidarity-gathering\n\n
DTSTART;TZID=America/Chicago:20231016T173000
DTEND;TZID=America/Chicago:20231016T183000
END:VEVENT
END:VCALENDAR
