BEGIN:VCALENDAR
PRODID:-//eluceo/ical//2.0/EN
VERSION:2.0
CALSCALE:GREGORIAN
BEGIN:VEVENT
UID:443a9034fe60977af8735f4a085628eb
DTSTAMP:20260422T033603Z
SUMMARY:Israel in Times of Crisis: A Conversation with Rhona Seidelman
DESCRIPTION:Champaign-Urbana Jewish Federation\nCommunity Calendar\nhttps:/
 /cujf.org/community-calendar/israel-in-times-of-crisis-a-conversation-with
 -rhona-seidelman\n\nOct 17\, 4:00pm\n\nMain Library Room 106\n\n1408 W Gre
 gory Dr\, Champaign\, IL\n\nJoin us in person or online\n\n \n\nDr. Rhona
  Seidelman is Associate Professor of History and the Schusterman Chair of 
 Israel Studies at the University of Oklahoma. Professor Seidelman’s rese
 arch interests are in the history of immigration\, the history of medicine
  and public health and Israel.  Originally from Canada\, she has a B.A. a
 nd an M.A. from the Hebrew University of Jerusalem and a Ph.D. from Ben Gu
 rion...
DTSTART;TZID=America/Chicago:20231017T160000
DTEND;TZID=America/Chicago:20231017T170000
END:VEVENT
END:VCALENDAR
