BEGIN:VCALENDAR
PRODID:-//eluceo/ical//2.0/EN
VERSION:2.0
CALSCALE:GREGORIAN
BEGIN:VEVENT
UID:3fcc5da27ff901c17933ab824f7da256
DTSTAMP:20260426T020815Z
SUMMARY:Israel and Jewish Education Series
DESCRIPTION:Champaign-Urbana Jewish Federation\nCommunity Calendar\nhttps:/
 /cujf.org/community-calendar/israel-and-jewish-education\n\nIsrael and Jew
 ish Education Series\n\nTuesdays June 4\, 18\, 25\n\n3-4pm CT\n\nregister 
 here\n\nThere will be a special streaming of this series at the Cohen Cent
 er each week! \n\nJoin Rabbi Mike Uram\, Chief Jewish Learning Officer at
  the Jewish Federations\, for a three-part series to unpack Israel’s his
 tory through a lens of complexity and gain a better understanding of the k
 ey features of Israel and Zionism. This course aims to help you feel more 
 grounded and confident when it comes to und...
DTSTART;TZID=America/Chicago:20240625T150000
DTEND;TZID=America/Chicago:20240625T160000
END:VEVENT
END:VCALENDAR
