BEGIN:VCALENDAR
PRODID:-//eluceo/ical//2.0/EN
VERSION:2.0
CALSCALE:GREGORIAN
BEGIN:VEVENT
UID:a01cd6e3d10c33d77d03fe31ddc80eb0
DTSTAMP:20260423T182851Z
SUMMARY:Interfaith Conversation about the Tradition of Tzedakah
DESCRIPTION:Champaign-Urbana Jewish Federation\nCommunity Calendar\nhttps:/
 /cujf.org/community-calendar/interfaith-conversation-about-the-tradition-o
 f-tzedakah-charity-and-justice\n\nTzedakah: Conversations about the Tradi
 tion of Tzedakah – charity and justice \n\nwith Rabbi Steven Sager\n\n
  \n\nHow do we give?\n\nWhat are the benefits or drawbacks of giving anon
 ymously\,  or giving face to face?\n\nHow do we prioritize tzedakah?\n\nD
 oes tzedakah involve resources other than money?\n\nWhat does the Bible me
 an (Proverbs) when it says "Tzedakah saves  from death"?\n\nHow does tzed
 akah relate to hesed/compassion\, tikkun olam/repair of the world?\n\n \
 n\nRabbi Sager i...
DTSTART;TZID=America/Chicago:20181008T150000
DTEND;TZID=America/Chicago:20181008T170000
END:VEVENT
END:VCALENDAR
