BEGIN:VCALENDAR
PRODID:-//eluceo/ical//2.0/EN
VERSION:2.0
CALSCALE:GREGORIAN
BEGIN:VEVENT
UID:9daf9e9ee10649011dffc254bfddf868
DTSTAMP:20260421T030924Z
SUMMARY:Insider Briefing on the 2022 Midterm Results
DESCRIPTION:Champaign-Urbana Jewish Federation\nCommunity Calendar\nhttps:/
 /cujf.org/community-calendar/insider-briefing-on-the-2022-midterm-results\
 n\nInsider Briefing on the 2022 Midterm Results\n\nMonday\, November 14th 
 | 6pm \n\nZoom\n\n \n\nFrom the Jewish Federation of North America:\n\nJ
 oin the Advocacy Corps for an Insider Briefing on the 2022 Midterm Results
 !\n\nJoin Jewish Federations’ Advocacy Corps and experts from Brownstein
  Hyatt Farber Shreck for a special briefing on the results of the 2022 Mid
 term Elections. We’ll provide expert analysis of key races\, updates on 
 Jewish Federations’ policy priorities in the lame duck...
DTSTART;TZID=America/Chicago:20221114T180000
DTEND;TZID=America/Chicago:20221114T190000
END:VEVENT
END:VCALENDAR
