BEGIN:VCALENDAR
PRODID:-//eluceo/ical//2.0/EN
VERSION:2.0
CALSCALE:GREGORIAN
BEGIN:VEVENT
UID:60b91c415840ed2c04f6c9b19b8edc3a
DTSTAMP:20260421T190149Z
SUMMARY:Holocaust Stories of Champaign Urbana Season 3 Launch
DESCRIPTION:Champaign-Urbana Jewish Federation\nCommunity Calendar\nhttps:/
 /cujf.org/community-calendar/holocaust-stories-of-champaign-urbana-season-
 3-launch\n\nSeason 3 of the Holocaust Education Center's podcast\, Holoca
 ust Stories of Champaign Urbana and Beyond goes LIVE!! Listen now and find
  all earlier episodes at cujf.org/hec/podcasts
DTSTART;TZID=America/Chicago:20250921T120000
DTEND;TZID=America/Chicago:20250921T120000
END:VEVENT
END:VCALENDAR
