BEGIN:VCALENDAR
PRODID:-//eluceo/ical//2.0/EN
VERSION:2.0
CALSCALE:GREGORIAN
BEGIN:VEVENT
UID:842290464f26513b2ee37550f6401d13
DTSTAMP:20260422T012836Z
SUMMARY:Holocaust Remembrance Day: commemorating Primo Levi
DESCRIPTION:Champaign-Urbana Jewish Federation\nCommunity Calendar\nhttps:/
 /cujf.org/community-calendar/holocaust-remembrance-day-commemorating-primo
 -levi-1554330628\n\nThis Yom Ha’ Shoah (Holocaust Remembrance Day) and o
 n the 100th anniversary of his birth\, we are honoring the life and work o
 f Italian author and Holocaust survivor\, Primo Levi. The evening will fea
 ture readings and discussion of the author's work.The program will include
  readings of some of Levi’s most famous passages by Kirsten Wynne Pullen
  (Department of Theatre) and Philip Phillips (Physics) and brief commentar
 ies by Jonathan Druker (Italian\, Illinois State University)\, Emanuel Rot
 a (...
DTSTART;TZID=America/Chicago:20190501T190000
DTEND;TZID=America/Chicago:20190501T210000
END:VEVENT
END:VCALENDAR
