BEGIN:VCALENDAR
PRODID:-//eluceo/ical//2.0/EN
VERSION:2.0
CALSCALE:GREGORIAN
BEGIN:VEVENT
UID:07a80893c873988201c1deb018403fae
DTSTAMP:20260423T004720Z
SUMMARY:Hillel Services
DESCRIPTION:Champaign-Urbana Jewish Federation\nCommunity Calendar\nhttps:/
 /cujf.org/community-calendar/hillel-services-2018\n\nCelebrate Shabbat wit
 h the Illini Hillel community every Friday night. Join Hillel for Friday 
 night services with one of three minyanim: Reform\, Conservative\, and Ort
 hodox. A free cRc certified Kosher dinner follows the service. \n\n \n\
 nFrom Cubs Shabbat to Comedy Shabbat\, Shabbat is an exciting experience e
 very week. Please see this week's theme on Hillel's calendar.
DTSTART;TZID=America/Chicago:20180928T180000
DTEND;TZID=America/Chicago:20180928T203000
END:VEVENT
END:VCALENDAR
