BEGIN:VCALENDAR
PRODID:-//eluceo/ical//2.0/EN
VERSION:2.0
CALSCALE:GREGORIAN
BEGIN:VEVENT
UID:a2928f8a1fbfad1a58b0bffe2b5fba19
DTSTAMP:20260423T012415Z
SUMMARY:Hillel Sukkot Morning Service
DESCRIPTION:Champaign-Urbana Jewish Federation\nCommunity Calendar\nhttps:/
 /cujf.org/community-calendar/hillel-morning-service-2018\n\nJoin Hillel fo
 r morning services on Sukkot 
DTSTART;TZID=America/Chicago:20180929T090000
DTEND;TZID=America/Chicago:20180929T110000
END:VEVENT
END:VCALENDAR
