BEGIN:VCALENDAR
PRODID:-//eluceo/ical//2.0/EN
VERSION:2.0
CALSCALE:GREGORIAN
BEGIN:VEVENT
UID:1f32a4f4fbdfc0e22120a3e6596ed971
DTSTAMP:20260421T125730Z
SUMMARY:Hillel Faculty Shabbat in Dara's Memory
DESCRIPTION:Champaign-Urbana Jewish Federation\nCommunity Calendar\nhttps:/
 /cujf.org/community-calendar/hillel-faculty-shabbat-in-daras-memory\n\nThe
  Latina/Latino Studies Department mourns the tragic news that our colleagu
 e and LLS Affiliate Dara Goldman unexpectedly passed away May 13. Dara w
 as a professor in the Spanish Department\, and she was the Director of the
  Program in Jewish Studies and Culture and former director of Center for L
 atin American and Caribbean Studies.\n\n\n\n \n\nThose of us who knew Dar
 a and were fortunate to have collaborated with her and spent lovely times 
 with her [she was an avid salsa dancer] cannot fa...
DTSTART;TZID=America/Chicago:20220930T190000
DTEND;TZID=America/Chicago:20220930T200000
END:VEVENT
END:VCALENDAR
