BEGIN:VCALENDAR
PRODID:-//eluceo/ical//2.0/EN
VERSION:2.0
CALSCALE:GREGORIAN
BEGIN:VEVENT
UID:0a08b8af2985ad72ebdc87dd91aaa1a1
DTSTAMP:20260421T102216Z
SUMMARY:Hillel Faculty Shabbat
DESCRIPTION:Champaign-Urbana Jewish Federation\nCommunity Calendar\nhttps:/
 /cujf.org/community-calendar/hillel-faculty-shabbat\n\nHillel will be host
 ing its traditional faculty Shabbat on April 24th (Services at 6pm\, Dinn
 er at 7pm) This Shabbat is sponsored by Itai Seggev in Memory of his wife 
 and our dear friend Prof. Dara Goldman\, on her yartzeit. This Shabbat din
 ner will be themes with Israeli food as we will be observing Israel's memo
 rial day and independence day that week. \nThere would be no need for you
  to prepare anything special\, just to join us for a delicious meal and en
 joyable company.  \nFami...
DTSTART;TZID=America/Chicago:20260424T180000
DTEND;TZID=America/Chicago:20260424T200000
END:VEVENT
END:VCALENDAR
