BEGIN:VCALENDAR
PRODID:-//eluceo/ical//2.0/EN
VERSION:2.0
CALSCALE:GREGORIAN
BEGIN:VEVENT
UID:eaa41971f0419eec1e4c6744ee676b52
DTSTAMP:20260422T165219Z
SUMMARY:HEC Book Trunk Packing
DESCRIPTION:Champaign-Urbana Jewish Federation\nCommunity Calendar\nhttps:/
 /cujf.org/community-calendar/hec-book-trunk-packing\n\nHEC Vermilion Count
 y Book Trunk Packing\n\nSunday\, September 28th\, 2025\n\n2:30 - 3:30 PM C
 ST\n\nSinai Temple\, 3104 Windsor Rd\n\n \n\nJoin the Holocaust Education
  Center as the put together book trunks for Vermilion County 5th\, 8th\, a
 nd 10th grade classrooms! This project is made possible thanks to the gene
 rousity of The Mervis Family Foundation\, The Community Foundation of Eas
 t Central Illinois\, and The Lumpkin Family Foundation.
DTSTART;TZID=America/Chicago:20250928T143000
DTEND;TZID=America/Chicago:20250928T153000
END:VEVENT
END:VCALENDAR
