BEGIN:VCALENDAR
PRODID:-//eluceo/ical//2.0/EN
VERSION:2.0
CALSCALE:GREGORIAN
BEGIN:VEVENT
UID:e221758acf8e32d09fe3ee189e70ef2c
DTSTAMP:20260424T213428Z
SUMMARY:From Darkness to Light: Nova Survivor Shoham Cohens story of Resili
 ence
DESCRIPTION:Champaign-Urbana Jewish Federation\nCommunity Calendar\nhttps:/
 /cujf.org/community-calendar/from-darkness-to-light-nova-survivor-shoham-c
 ohens-story-of-resilience\n\n
DTSTART;TZID=America/Chicago:20251005T170000
DTEND;TZID=America/Chicago:20251005T190000
END:VEVENT
END:VCALENDAR
