BEGIN:VCALENDAR
PRODID:-//eluceo/ical//2.0/EN
VERSION:2.0
CALSCALE:GREGORIAN
BEGIN:VEVENT
UID:363366058bffc217a107dd98463477e4
DTSTAMP:20260421T043840Z
SUMMARY:Shabbat Evening with Mois Navon
DESCRIPTION:Champaign-Urbana Jewish Federation\nCommunity Calendar\nhttps:/
 /cujf.org/community-calendar/friday-night-live-2018-285137\n\nJoin Chabad 
 for a Shabbat with Mois Navon\, Founding Engineer of Mobileye. Mobileye is
  the leading supplier of software that enables Advanced Driver Assist Syst
 ems (ADAS)\, with more than 25 automaker partners including some of the wo
 rld’s largest. Mobileye is on the cutting-edge of autonomous vehicle tec
 hnology. In 2017\, Intel Corporation acquired Mobileye. \n\nAugust 31\, F
 riday\nInnovation\, Autonomous Vehicles\, and Purpose\n6:30 pm Kabalat Sha
 bbat\n7:30 pm Dinner\n\nSeptember 1\, Saturday\n...
DTSTART;TZID=America/Chicago:20180831T183000
DTEND;TZID=America/Chicago:20180831T213000
END:VEVENT
END:VCALENDAR
