BEGIN:VCALENDAR
PRODID:-//eluceo/ical//2.0/EN
VERSION:2.0
CALSCALE:GREGORIAN
BEGIN:VEVENT
UID:d99a78e5f6f51c5ec5913a7bf5135814
DTSTAMP:20260422T115932Z
SUMMARY:Freedom of Speech in the Context of Anti-Israel Protests
DESCRIPTION:Champaign-Urbana Jewish Federation\nCommunity Calendar\nhttps:/
 /cujf.org/community-calendar/freedom-of-speech-in-the-context-of-anti-isra
 el-protests\n\nFreedom of Speech in the Context of Anti-Israel Protests\nT
 hursday\, August 1 at 2 PM EST\n\nJoin us for a special briefing Thursday\
 , August 1 at 2:00 PM EST that will explore the parameters of First Amendm
 ent protections and limits to campus protest activities. As campus protest
 s\, student encampments and a range of hateful harassment and bullying of 
 Jewish students swept across college and K-12 campuses this past year\, ma
 ny people asked when such activities cross ...
DTSTART;TZID=America/Chicago:20240801T130000
DTEND;TZID=America/Chicago:20240801T140000
END:VEVENT
END:VCALENDAR
