BEGIN:VCALENDAR
PRODID:-//eluceo/ical//2.0/EN
VERSION:2.0
CALSCALE:GREGORIAN
BEGIN:VEVENT
UID:90b283e80eefe23877b9e81c321f16a8
DTSTAMP:20260421T030345Z
SUMMARY:Free Break-the-Fast
DESCRIPTION:Champaign-Urbana Jewish Federation\nCommunity Calendar\nhttps:/
 /cujf.org/community-calendar/free-break-the-fast\n\n \n\nHillel is offeri
 ng Reform\, Conservative\, and Orthodox services for the High Holidays. Pl
 ease see their website for a complete listing of all services and meals f
 or Rosh Hashanah\, Yom Kippur\, and Sukkot. The same website serves as the
  registration page for students. They have a separate page for registrat
 ion for community members. 
DTSTART;TZID=America/Chicago:20180919T194500
DTEND;TZID=America/Chicago:20180919T214500
END:VEVENT
END:VCALENDAR
